BEGIN:VCALENDAR
VERSION:2.0
PRODID:-//annunciationchurch.net//eCatholic//EN
X-WR-TIMEZONE:LocalTZ
BEGIN:VTIMEZONE
TZID:LocalTZ
X-LIC-LOCATION:LocalTZ
BEGIN:DAYLIGHT
TZOFFSETFROM:-0800
TZOFFSETTO:-0700
TZNAME:LocalTZ
DTSTART:19700308T020000
RRULE:FREQ=YEARLY;BYMONTH=3;BYDAY=2SU
END:DAYLIGHT
BEGIN:STANDARD
TZOFFSETFROM:-0700
TZOFFSETTO:-0800
TZNAME:LocalTZ
DTSTART:19701101T020000
RRULE:FREQ=YEARLY;BYMONTH=11;BYDAY=1SU
END:STANDARD
END:VTIMEZONE
BEGIN:VEVENT
UID:383819@annunciationchurch.net
DTSTAMP:20260420T023517Z
DTSTART:20260419T150000
DTEND:20260419T160000
RRULE:FREQ=WEEKLY;BYDAY=SU
EXDATE:20161113T150000,20161225T150000
SUMMARY:Thánh Lễ tiếng Việt (Mass)
END:VEVENT
BEGIN:VEVENT
UID:2840736@annunciationchurch.net
DTSTAMP:20260420T023517Z
DTSTART:20260423T183000
DTEND:20260423T200000
RRULE:FREQ=WEEKLY;BYDAY=TH
SUMMARY:Youth Ministry
END:VEVENT
BEGIN:VEVENT
UID:2840753@annunciationchurch.net
DTSTAMP:20260420T023517Z
DTSTART:20260503T070000
DTEND:20260503T130000
SUMMARY:Color Run & BBQ
DESCRIPTION:More Details to follow
END:VEVENT
END:VCALENDAR
